BEGIN:VCALENDAR
PRODID:-//hacksw/handcal//NONSGML v1.0//EN
VERSION:2.0
METHOD:PUBLISH
BEGIN:VEVENT
DTSTART:20141007T211500Z
DTEND:20141008T003000Z
LOCATION:Hotel DuPont - DuBarry Room
UID:1096920141007T211500ZThe Law and Economics of Fiduciary Investing:  An Empirical Analysis
DTSTAMP:20260422T183043Z
DESCRIPTION:\n**  REGISTRATION FOR THIS EVENT IS NOW CLOSED  **\n \n \n \n \n \n*** Payment due by October 6, 2014 ***\n \nGUESTS:  Check or Cash only.  WE DO NOT ACCEPT CREDIT CARDS.\n \n \n \nEvent sponsor(s):\n \nNewton One Advisors (www.newtonone.com)\n \nMorris, Nichols, Arsht & Tunnell LLP  (www.mnat.com)\n \nPNC Wealth Management (www.pnc.com)\n \n \n \nCocktails 5:15 pm - 6:15 pm\n \nDinner/Presentation 6:15 pm\n \n \n \nMenu\n \nSeared Filet of Salmon, Balsamic Chive Sauce on a bed of red & yellow tomatoes, season fresh vegetables\n \nVegetarian option:  Napoleon season fresh vegetables w/smoked tomato on Quinoa with dried fruit\n \nChicken entree available in place of Salmon\n \nDessert:  Lemon Cream Charlotte w/raspberries\n \n \n
SUMMARY:The Law and Economics of Fiduciary Investing:  An Empirical Analysis - Estate Planning Council of Delaware, Inc. 
PRIORITY:3
BEGIN:VALARM
TRIGGER:PT18H
ACTION:DISPLAY
DESCRIPTION:Reminder
END:VALARM
END:VEVENT
END:VCALENDAR