BEGIN:VCALENDAR
PRODID:-//hacksw/handcal//NONSGML v1.0//EN
VERSION:2.0
METHOD:PUBLISH
BEGIN:VEVENT
DTSTART:20141120T223000Z
DTEND:20141121T010000Z
LOCATION:Mendenhall Inn
UID:1097020141120T223000ZWhat I Would Want to Know About the Life Insurance Business If I Didn't Already Know It (Or at Least Thought I Did!)
DTSTAMP:20260422T183407Z
DESCRIPTION:\nREGISTRATION FOR THIS EVENT IS CLOSED.\n \n \n \n \n \n*** Payment due by November 17, 2014 ***\n \n** Any cancellations made within 72 hours of the program are subject to our cancellation policy as listed on the council website **\n \nGUESTS:  Check or Cash only.  WE DO NOT ACCEPT CREDIT CARDS.\n \n \n \nEvent sponsor(s):\n \nGawthrop Greenwood, PC (www.gawthrop.com)\n \nBelfint, Lyons & Shuman, P.A. (www.belfint.com)\n \nAmeriprise Financial (www.ameriprise.com)\n \nChristiana Care (www.christianacare.org)\n \n \n \nCocktails 5:30 pm - 6:15 pm\n \nDinner/Presentation 6:15 pm\n \n \n \nMenu\n \nBuffet Dinner - includes soup, salad, prime rib, chicken piccata, salmon, pasta, mixed vegetable and mashed potatoes\n
SUMMARY:What I Would Want to Know About the Life Insurance Business If I Didn't Already Know It (Or at Least Thought I Did!) - Estate Planning Council of Delaware, Inc. 
PRIORITY:3
BEGIN:VALARM
TRIGGER:PT18H
ACTION:DISPLAY
DESCRIPTION:Reminder
END:VALARM
END:VEVENT
END:VCALENDAR