BEGIN:VCALENDAR
PRODID:-//hacksw/handcal//NONSGML v1.0//EN
VERSION:2.0
METHOD:PUBLISH
BEGIN:VEVENT
DTSTART:20150203T221500Z
DTEND:20150204T013000Z
LOCATION:Hotel DuPont - DuBarry Room
UID:1097120150203T221500ZPlanning Update:  Here We Are in 2015
DTSTAMP:20260422T182851Z
DESCRIPTION:\nONLINE RESERVATIONS ARE NOW CLOSED\n \n \n \n*** Payment due by February 2, 2105 ***\n \nGUESTS:  Check or Cash only.  WE DO NOT ACCEPT CREDIT CARDS.\n \n \n \nEvent sponsor(s):\n \nSiegfried Advisory, LLC (www.siegfriedgroup.com)\n \nGordon Fournaris & Mammarella (www.gfmlaw.com)\n \nDeutsche Bank Trust Company Delaware (www.db.com)\n \n \n \n \n \nCocktails 5:15 pm - 6:15 pm\n \nDinner/Presentation 6:15 pm\n \n \n \nMenu\n \nChicken breast w/lemon cream sauce, seasonal fresh vegetables\n \nVegetarian option:  Eggplant Napoleon Tower w/sundried tomato sauce\n \nDessert:  Chocolate souffle torte w/Cherry Coulis\n \n \n
SUMMARY:Planning Update:  Here We Are in 2015 - Estate Planning Council of Delaware, Inc. 
PRIORITY:3
BEGIN:VALARM
TRIGGER:PT18H
ACTION:DISPLAY
DESCRIPTION:Reminder
END:VALARM
END:VEVENT
END:VCALENDAR