BEGIN:VCALENDAR
PRODID:-//hacksw/handcal//NONSGML v1.0//EN
VERSION:2.0
METHOD:PUBLISH
BEGIN:VEVENT
DTSTART:20150303T221500Z
DTEND:20150304T013000Z
LOCATION:Hotel DuPont DuBarry Room
UID:1097220150303T221500ZTax Efficient Spend Down Strategies During Retirement
DTSTAMP:20260422T183619Z
DESCRIPTION:\nONLINE RESERVATIONS CLOSED\n \n \n \n*** Payment due by March 2, 2015 ***\n \nGUESTS:  Check or Cash only.  WE DO NOT ACCEPT CREDIT CARDS.\n \n \n \nEvent sponsor(s):\n \nBrown & Brown Private Client Group (www.bbprivateclient.com)\n \nCapital One, N.A.  (www.capitalone.com)\n \nGunnip & Company LLP (www.gunnip.com)\n \nRichards, Layton & Finger (http://www.rlf.com/)\n \n \n \nCocktails 5:15 pm - 6:15 pm\n \n \n \nDinner/Presentation 6:15 pm\n \n \n \nMenu\n \nBraised short rib & peppered sirloin medallions w/season fresh vegetables\n \nVegetarian option:  Zucchini bundles stuffed with petite vegetables &parmesan cheese\n \nDessert:  Apple Crisp w/vanilla ice cream & caramel sauce\n
SUMMARY:Tax Efficient Spend Down Strategies During Retirement - Estate Planning Council of Delaware, Inc. 
PRIORITY:3
BEGIN:VALARM
TRIGGER:PT18H
ACTION:DISPLAY
DESCRIPTION:Reminder
END:VALARM
END:VEVENT
END:VCALENDAR