BEGIN:VCALENDAR
PRODID:-//hacksw/handcal//NONSGML v1.0//EN
VERSION:2.0
METHOD:PUBLISH
BEGIN:VEVENT
DTSTART:20150520T210000Z
DTEND:20150521T003000Z
LOCATION:DuPont Country Club
UID:1097320150520T210000ZElder Abuse
DTSTAMP:20260422T183612Z
DESCRIPTION:\nONLINE RESERVATIONS ARE NOW CLOSED.\n \n \n \n*** Payment due by May 19, 2015 ***\n \nGUESTS:  Check or Cash only.  WE DO NOT ACCEPT CREDIT CARDS.\n \n \n \nEvent sponsor(s):\n \nWilmington Trust Company  (www.wilmingtontrust.com)\n \nCooch and Taylor, P.A. (www.coochtaylor.com)\n \n \n \nSocial Hour Sponsors:\n \nAlbero Kupferman & Associates (www.aka-cpa.com)\n \nDelaware Community Foundation (www.delcf.org)\n \n \n \nCocktails 5:00 pm - 6:00 pm\n \nDinner/Presentation 6:00 pm\n \n \n \nMenu\n \nYour choice:\n \n   Crab cakes\n \n   Filet Mignon\n \n   Vegetarian (chef's choice)\n \nDessert:  Creamy vanilla cheesecake w/cherry glace\n
SUMMARY:Elder Abuse - Estate Planning Council of Delaware, Inc. 
PRIORITY:3
BEGIN:VALARM
TRIGGER:PT18H
ACTION:DISPLAY
DESCRIPTION:Reminder
END:VALARM
END:VEVENT
END:VCALENDAR