BEGIN:VCALENDAR
PRODID:-//hacksw/handcal//NONSGML v1.0//EN
VERSION:2.0
METHOD:PUBLISH
BEGIN:VEVENT
DTSTART:20150122T223000Z
DTEND:20150123T003000Z
LOCATION:Deep Blue Bar & Grille
UID:1135520150122T223000ZWinter Social
DTSTAMP:20260422T182851Z
DESCRIPTION:\nONLINE RESERVATIONS ARE NOW CLOSED.  \n \nYOU ARE STILL WELCOME TO ATTEND!\n \n \n \nNo admittance fee!\n \nHors D'Oeuvres and Music\n \nCash Bar\n \n\n
SUMMARY:Winter Social - Estate Planning Council of Delaware, Inc. 
PRIORITY:3
BEGIN:VALARM
TRIGGER:PT18H
ACTION:DISPLAY
DESCRIPTION:Reminder
END:VALARM
END:VEVENT
END:VCALENDAR