BEGIN:VCALENDAR
PRODID:-//hacksw/handcal//NONSGML v1.0//EN
VERSION:2.0
METHOD:PUBLISH
BEGIN:VEVENT
DTSTART:20151013T211500Z
DTEND:20151014T000000Z
LOCATION:DuPont Country Club
UID:1214320151013T211500ZMtg #1:  Federal & Estate IRS Audits & Litigation
DTSTAMP:20260422T183936Z
DESCRIPTION:\nONLINE RESERVATIONS ARE NOW CLOSED\n \nRSVP BY NOON OCTOBER 8, 2015\n \n*** Payment due by October 13, 2015 ***\n \nGUESTS:  Check or Cash only.  WE DO NOT ACCEPT CREDIT CARDS.\n \n \n \nEvent sponsor(s):\n \nDelaware Community Foundation\n \nPNC Delaware Trust Company\n \nMorris Nichols Arsht & Tunnell\n \n \n \nCocktails 5:15 pm - 6:15 pm\n \nDinner/Presentation 6:15 pm\n \n \n \nMenu\n \nCream of Mushroom soup with crispy shiitake mushrooms & herb oil\n \nSeared Filet of Salmon on a bed of red & yellow roasted tomatoes, balsamic chive sauce (OR chicken breast)\n \n* Vegetarian option:  Zucchini bundles stuffed with petite vegetables & parmesan cheese\n \nDessert:  Apple Crisp w/vanilla ice cream & caramel sauce\n \n \n
SUMMARY:Mtg #1:  Federal & Estate IRS Audits & Litigation - Estate Planning Council of Delaware, Inc. 
PRIORITY:3
BEGIN:VALARM
TRIGGER:PT18H
ACTION:DISPLAY
DESCRIPTION:Reminder
END:VALARM
END:VEVENT
END:VCALENDAR