BEGIN:VCALENDAR
PRODID:-//hacksw/handcal//NONSGML v1.0//EN
VERSION:2.0
METHOD:PUBLISH
BEGIN:VEVENT
DTSTART:20160209T221500Z
DTEND:20160210T010000Z
LOCATION:Hotel DuPont - DuBarry Room
UID:1214520160209T221500ZMeeting #3 The Top 10 Estate Planning and Estate Tax Devs of 2015
DTSTAMP:20260422T182917Z
DESCRIPTION:\nONLINE REGISTRATION IS NOW CLOSED\n \n \n \nRSVP BY NOON FEBRUARY 4, 2016\n \n** Payment due by February 9, 2016 ***\n \nGUESTS:  Check or Cash only.  WE DO NOT ACCEPT CREDIT CARDS.\n \n \n \nEvent sponsor(s):\n \nNew York Private Trust\n \nNewton One Advisors\n \nRichards, Layton & Finger\n \nSiegfried Advisory\n \n \n \n \n \nCocktails 5:15 pm - 6:15 pm\n \nDinner/Presentation 6:15 pm\n \n \n \nMenu\n \nClassic Caesar Salad with baked croutons, grated parmesan cheese\n \nBraised short rib and peppered sirloin medallion, petite vegetables, bourbon sauce\n \n* Vegetarian option:  Napolean of seasonal fresh vegetables, smoked tomato sauce, quinoa with dried fruit\n \nDessert:  Chocolate souffle torte with cherry coulis\n \n \n
SUMMARY:Meeting #3 The Top 10 Estate Planning and Estate Tax Devs of 2015 - Estate Planning Council of Delaware, Inc. 
PRIORITY:3
BEGIN:VALARM
TRIGGER:PT18H
ACTION:DISPLAY
DESCRIPTION:Reminder
END:VALARM
END:VEVENT
END:VCALENDAR