BEGIN:VCALENDAR
PRODID:-//hacksw/handcal//NONSGML v1.0//EN
VERSION:2.0
METHOD:PUBLISH
BEGIN:VEVENT
DTSTART:20160301T221500Z
DTEND:20160302T010000Z
LOCATION:Hotel DuPont - DuBarry Room
UID:1214620160301T221500ZMeeting #4 Federal Tax Planning Opportunities and Pitfalls for U.S. Citizens Living and Working Overseas
DTSTAMP:20260422T183255Z
DESCRIPTION:\nONLINE RESERVATIONS ARE NOW CLOSED\n \nRSVP BY NOON FEBRUARY 25, 2016\n \n*** Payment due by March 1, 2016 ***\n \nGUESTS:  Check or Cash only.  WE DO NOT ACCEPT CREDIT CARDS.\n \n \n \nEvent sponsor(s):\n \nGawthrop Greenwood, PC\n \nFinancial House\n \n \n \nCocktails 5:15 pm - 6:15 pm\n \nDinner/Presentation 6:15 pm\n \n \n \nMenu\n \nSpinach salad with shaved manchego cheese, mandarin oranges, candied walnuts, citrus vinaigrette\n \nChicken breast with parsnips, endive and orange supreme ginger gastrique\n \n* Vegetarian option:  Warm penne pasta with asparagus, peas and shiitake mushrooms in a vegetable nage\n \nDessert:  Lemon poppy seed cake with berry coulis\n \n \n
SUMMARY:Meeting #4 Federal Tax Planning Opportunities and Pitfalls for U.S. Citizens Living and Working Overseas - Estate Planning Council of Delaware, Inc. 
PRIORITY:3
BEGIN:VALARM
TRIGGER:PT18H
ACTION:DISPLAY
DESCRIPTION:Reminder
END:VALARM
END:VEVENT
END:VCALENDAR