BEGIN:VCALENDAR
PRODID:-//hacksw/handcal//NONSGML v1.0//EN
VERSION:2.0
METHOD:PUBLISH
BEGIN:VEVENT
DTSTART:20160517T210000Z
DTEND:20160518T000000Z
LOCATION:DuPont Country Club
UID:1214720160517T210000ZMeeting # 5 Annual Mtg:  Sophisticated Transfer Planning Strategies for Business Owners
DTSTAMP:20260422T182732Z
DESCRIPTION:\nONLINE RESERVATIONS ARE NOW CLOSED\n \nRSVP BY NOON MAY 12, 2016\n \n*** Payment due by May 17, 2016 ***\n \nGUESTS:  Check or Cash only.  WE DO NOT ACCEPT CREDIT CARDS.\n \n \n \nSocial Hour sponsors:\n \nBelfint, Lyons & Shuman - Social Hour\n \nCovenant Wealth Strategies - Social Hour\n \n \n \nDinner Sponsors:\n \nBrown & Brown Private Client Group\n \nWilmington Trust Company\n \n \n \n \n \n \n \nCocktails 5:00 pm - 6:00 pm\n \nDinner/Presentation 6:00 pm\n \n \n \nMenu\n \nSpring mix of greens with crispy pancetta, figs, dates, bleu cheese and sherry vinaigrette\n \nCrab Cakes OR Filet Mignon\n \n* Vegetarian option:  Zucchini bundles stuffed with petite vegetables\n \nDessert: Tahitian Vanilla Bean Creme Brulee\n \n \n
SUMMARY:Meeting # 5 Annual Mtg:  Sophisticated Transfer Planning Strategies for Business Owners - Estate Planning Council of Delaware, Inc. 
PRIORITY:3
BEGIN:VALARM
TRIGGER:PT18H
ACTION:DISPLAY
DESCRIPTION:Reminder
END:VALARM
END:VEVENT
END:VCALENDAR