BEGIN:VCALENDAR
PRODID:-//hacksw/handcal//NONSGML v1.0//EN
VERSION:2.0
METHOD:PUBLISH
BEGIN:VEVENT
DTSTART:20160128T223000Z
DTEND:20160129T003000Z
LOCATION:Hagley Museum & Library, Gallery II - Soda House
UID:1267220160128T223000ZWinter Social
DTSTAMP:20260422T183423Z
DESCRIPTION:\n \n \n\n \nONLINE RESERVATIONS ARE NOW CLOSED. \n
SUMMARY:Winter Social - Estate Planning Council of Delaware, Inc. 
PRIORITY:3
BEGIN:VALARM
TRIGGER:PT18H
ACTION:DISPLAY
DESCRIPTION:Reminder
END:VALARM
END:VEVENT
END:VCALENDAR