BEGIN:VCALENDAR
PRODID:-//hacksw/handcal//NONSGML v1.0//EN
VERSION:2.0
METHOD:PUBLISH
BEGIN:VEVENT
DTSTART:20161013T211500Z
DTEND:20161014T000000Z
LOCATION:Hotel DuPont - DuBarry Room
UID:1353620161013T211500ZMeeting #1 - The Past Year's Most Significant, Curious, or Downright Fascinating Fiduciary Cases
DTSTAMP:20260422T183726Z
DESCRIPTION:\nONLINE RESERVATIONS ARE NOW CLOSED.\n \n \n \nRSVP BY:  Noon - Monday, October 10, 2016\n \nGuests:  Payment of $60 is expected on or before event.\n \nCash or Check only – we do not accept credit cards.\n \n \n \nEvent Sponsors:\n Bessemer Trust Company of Delaware, N.A. Cooch and Taylor, P.A. Crozier Fine Arts \n \n \nCocktails        5:15 pm – 6:15pm\n \nDinner/Presentation         6:15 pm\n \n \n \nMenu:\n \nCream of Mushroom Soup with Crispy Shiitake Mushrooms, Herb oil\n \nAll natural boneless chicken breast, stuffed with fontina, artichokes\n \nStrawberry Pistachio Cream Pyramid with Strawberry Thyme Coulis\n \nVegetarian option:  Zucchini Bundles\n
SUMMARY:Meeting #1 - The Past Year's Most Significant, Curious, or Downright Fascinating Fiduciary Cases - Estate Planning Council of Delaware, Inc. 
PRIORITY:3
BEGIN:VALARM
TRIGGER:PT18H
ACTION:DISPLAY
DESCRIPTION:Reminder
END:VALARM
END:VEVENT
END:VCALENDAR