BEGIN:VCALENDAR
PRODID:-//hacksw/handcal//NONSGML v1.0//EN
VERSION:2.0
METHOD:PUBLISH
BEGIN:VEVENT
DTSTART:20161109T221500Z
DTEND:20161110T010000Z
LOCATION:Wilmington Country Club
UID:1353720161109T221500ZMeeting #2 - Joint with Chester County - The State of the Arts Market
DTSTAMP:20260422T183719Z
DESCRIPTION:\nONLINE RESERVATIONS NOW CLOSED\n \nRSVP BY:  Noon - Friday, November 4, 2016\n \nGuests:  Payment of $60 is expected on or before event.\n \nCash or Check only – we do not accept credit cards.\n \n \n \nEvent Sponsors:\n New York Private Trust Company Brown & Brown Private Client Group \n \n \n \n \nCocktails        5:15 pm – 6:15pm\n \nDinner/Presentation  6:15 pm\n \n \n \nMenu:\n \nIceberg wedge with bleu cheese dressing\n \nBoneless breast of Chicken Picatta, sauteed mushrooms and lemon caper sauce\n \nOR\n \nVegetable Lasagna\n \nApple pie\n
SUMMARY:Meeting #2 - Joint with Chester County - The State of the Arts Market - Estate Planning Council of Delaware, Inc. 
PRIORITY:3
BEGIN:VALARM
TRIGGER:PT18H
ACTION:DISPLAY
DESCRIPTION:Reminder
END:VALARM
END:VEVENT
END:VCALENDAR