BEGIN:VCALENDAR
PRODID:-//hacksw/handcal//NONSGML v1.0//EN
VERSION:2.0
METHOD:PUBLISH
BEGIN:VEVENT
DTSTART:20170207T221500Z
DTEND:20170208T010000Z
LOCATION:Hotel DuPont - DuBarry Room
UID:1353820170207T221500ZMeeting #3 - City of Wilmington Issues and Plans to Address Them - Q&A after
DTSTAMP:20260422T183819Z
DESCRIPTION:\nONLINE RESERVATIONS NOW CLOSED\n \n \n \nRSVP BY:  Noon - Friday, February 3, 2017\n \nGuests:  Payment of $60 is expected on or before event.\n \nCash or Check only – we do not accept credit cards.\n \n \n \nEvent Sponsors:\n Albero, Kupferman & Associates, LLC PNC Delaware Trust Company Delaware Community Foundation Connolly Gallagher LLP \nCocktails        5:15 pm – 6:15pm\n \nDinner/Presentation                        6:15 pm\n \n \n \nMenu:\n \nPetite Mixed Greens with Mandarin Oranges, Toasted Almonds and White Balsamic Vinaigrette\n \nRoasted Red Snapper with zucchini and squash ribbons, warm truffle vinaigrette\n \nApple Crisp Tart with Vanilla Ice Cream and Caramel Sauce\n \nVegetarian option:  Napolean of seasonal fresh vegetables\n
SUMMARY:Meeting #3 - City of Wilmington Issues and Plans to Address Them - Q&A after - Estate Planning Council of Delaware, Inc. 
PRIORITY:3
BEGIN:VALARM
TRIGGER:PT18H
ACTION:DISPLAY
DESCRIPTION:Reminder
END:VALARM
END:VEVENT
END:VCALENDAR