BEGIN:VCALENDAR
PRODID:-//hacksw/handcal//NONSGML v1.0//EN
VERSION:2.0
METHOD:PUBLISH
BEGIN:VEVENT
DTSTART:20170307T221500Z
DTEND:20170308T010000Z
LOCATION:Hotel DuPont - DuBarry Room
UID:1353920170307T221500ZMeeting #4 - Status of 2704 Regulations from Business Valuation Expert's Perspective
DTSTAMP:20260422T183819Z
DESCRIPTION:\nONLINE RESERVATIONS NOW CLOSED\n \nRSVP BY:  Noon - Friday, March 3, 2017\n \nGuests:  Payment of $60 is expected on or before event.\n \nCash or Check only – we do not accept credit cards.\n \n \n \nEvent Sponsors:\n BNY Mellon Wealth Management Gordon Fournaris & Mammarella, P.A. Freeman's Gunnip & Company LLP \n \n \n \n \nCocktails        5:15 pm – 6:15pm\n \nDinner/Presentation                        6:15 pm\n \n \n \nMenu:\n \nClassic Caesar Salad with Baked Croutons & Grated Parmesan Cheese\n \nBraised Short Rib and Peppered Sirloin Medallions, Petite Vegetables, Bourbon Sauce\n \nChocolate Souffle Torte with Cherry Coulis\n \nVegetarian option:  Penne Pasta with Asparagus\n
SUMMARY:Meeting #4 - Status of 2704 Regulations from Business Valuation Expert's Perspective - Estate Planning Council of Delaware, Inc. 
PRIORITY:3
BEGIN:VALARM
TRIGGER:PT18H
ACTION:DISPLAY
DESCRIPTION:Reminder
END:VALARM
END:VEVENT
END:VCALENDAR