BEGIN:VCALENDAR
PRODID:-//hacksw/handcal//NONSGML v1.0//EN
VERSION:2.0
METHOD:PUBLISH
BEGIN:VEVENT
DTSTART:20170523T210000Z
DTEND:20170524T000000Z
LOCATION:DuPont Country Club
UID:1354020170523T210000ZMeeting #5 - Annual Meeting - Burning Questions (and Even Hotter Answers) about Grantor Trusts
DTSTAMP:20260422T183036Z
DESCRIPTION:\nONLINE RESERVATIONS NOW CLOSED\n \n \n \n \n \nRSVP BY:  Noon - Friday, May 19, 2017\n \nGuests:  Payment of $75 is expected on or before event.\n \nCash or Check only – we do not accept credit cards.\n \n \n \nDinner Sponsors:\n Gawthrop Greenwood, PC Wilmington Trust Company \nCocktail Sponsors:\n Belfint Lyons & Shuman Evercore Trust Company of Delaware \n \n \nCocktails        5:00 pm – 6:15pm\n \nDinner/Presentation                        6:15 pm\n \n \n \nMenu:\n \nCheese and Vegetable during cocktail hour\n \n \n \nTomato Basil soup\n \nOne Entrée (please select):\n \nCrab Cakes with Braised Leeks, Champagne and Caviar Cream\n \nBoneless Beef Short Ribs with Chipotle Maple Whipped Potatoes with Applejack Demi-Glace\n \nNapoleon of Sauteed Mushrooms, Spinach, Shallots, Garlic & Parmesan Cheese with Crispy Phyllo, Lemon-Chive Cream Sauce\n \nChampagne Strawberry Mousse\n \n \n
SUMMARY:Meeting #5 - Annual Meeting - Burning Questions (and Even Hotter Answers) about Grantor Trusts - Estate Planning Council of Delaware, Inc. 
PRIORITY:3
BEGIN:VALARM
TRIGGER:PT18H
ACTION:DISPLAY
DESCRIPTION:Reminder
END:VALARM
END:VEVENT
END:VCALENDAR