BEGIN:VCALENDAR
PRODID:-//hacksw/handcal//NONSGML v1.0//EN
VERSION:2.0
METHOD:PUBLISH
BEGIN:VEVENT
DTSTART:20170119T223000Z
DTEND:20170120T003000Z
LOCATION:Delaware Art Museum
UID:1413320170119T223000ZWinter Social - Delaware Art Museum
DTSTAMP:20260420T021613Z
DESCRIPTION:\n\n
SUMMARY:Winter Social - Delaware Art Museum - Estate Planning Council of Delaware, Inc. 
PRIORITY:3
BEGIN:VALARM
TRIGGER:PT18H
ACTION:DISPLAY
DESCRIPTION:Reminder
END:VALARM
END:VEVENT
END:VCALENDAR