BEGIN:VCALENDAR
PRODID:-//hacksw/handcal//NONSGML v1.0//EN
VERSION:2.0
METHOD:PUBLISH
BEGIN:VEVENT
DTSTART:20170628T213000Z
DTEND:20170628T233000Z
LOCATION:Nemours Mansion & Gardens
UID:1447120170628T213000ZSummer Social - Nemours Mansion & Gardens
DTSTAMP:20260422T183941Z
DESCRIPTION:\nONLINE RESERVATIONS NOW CLOSED\n
SUMMARY:Summer Social - Nemours Mansion & Gardens - Estate Planning Council of Delaware, Inc. 
PRIORITY:3
BEGIN:VALARM
TRIGGER:PT18H
ACTION:DISPLAY
DESCRIPTION:Reminder
END:VALARM
END:VEVENT
END:VCALENDAR