BEGIN:VCALENDAR
PRODID:-//hacksw/handcal//NONSGML v1.0//EN
VERSION:2.0
METHOD:PUBLISH
BEGIN:VEVENT
DTSTART:20171012T211500Z
DTEND:20171013T000000Z
LOCATION:Hotel DuPont
UID:1515020171012T211500ZMeeting #1 - Family Trusts That Preserve Family and Preserve Trust
DTSTAMP:20260422T183941Z
DESCRIPTION:\nONLINE RESERVATIONS ARE NOW CLOSED\n \nRSVP BY:  Noon - Friday, October 6, 2017\n \nGuests:  Payment of $60 is expected on or before event\n \n \n \nSponsors:\n Accounting:  Albero, Kupferman & Assoc. Legal:  Cooch and Taylor Financial:  Wilmington Trust Company Other:  open \nTo sponsor an event, contact Mike Albero, Sponsorship Chair.\n \n \n \nCocktails:  5:15 pm - 6:15 pm\n \n \n \nMenu:\n \nSpring Mix Salad\n \nLobster Ravioli, Saffron Chive Buerre Blanc\n \nVegetarian:  Bowtie Pasta Primavera with Seasonal Vegetables and Alfredo Sauce\n \nChocolate & Rum Tiramisu\n \n \n
SUMMARY:Meeting #1 - Family Trusts That Preserve Family and Preserve Trust - Estate Planning Council of Delaware, Inc. 
PRIORITY:3
BEGIN:VALARM
TRIGGER:PT18H
ACTION:DISPLAY
DESCRIPTION:Reminder
END:VALARM
END:VEVENT
END:VCALENDAR