BEGIN:VCALENDAR
PRODID:-//hacksw/handcal//NONSGML v1.0//EN
VERSION:2.0
METHOD:PUBLISH
BEGIN:VEVENT
DTSTART:20171107T221500Z
DTEND:20171108T010000Z
LOCATION:Wilmington Country Club
UID:1515120171107T221500ZMeeting #2 - Joint with CCEPC - Bridging Generations
DTSTAMP:20260422T183619Z
DESCRIPTION:\nONLINE RESERVATIONS NOW CLOSED\n \nRSVP BY:  Noon - Friday, November 3, 2017\n \nGuests:  payment of $60 is expected on or before the event.\n \n \n \nSponsors:\n \nConnolly Gallagher LLP\n \nBrown Brothers Harriman Trust Company\n \n \n \nSponsorships are open, please contact our sponsor chair - Mike Albero.\n \n \n \nCOCKTAILS:  5:15 pm - 6:15 pm.\n \nMENU:\n \nIceberg Wedge, Bleu Cheese Dressing\n \nBoneless Breast of Chicken Picatta, Lemon Caper Cream Sauce\n \nOR\n \nVegetable Lasagna\n \nGranny Smith Apple Crumb Pie\n \n \n
SUMMARY:Meeting #2 - Joint with CCEPC - Bridging Generations - Estate Planning Council of Delaware, Inc. 
PRIORITY:3
BEGIN:VALARM
TRIGGER:PT18H
ACTION:DISPLAY
DESCRIPTION:Reminder
END:VALARM
END:VEVENT
END:VCALENDAR