BEGIN:VCALENDAR
PRODID:-//hacksw/handcal//NONSGML v1.0//EN
VERSION:2.0
METHOD:PUBLISH
BEGIN:VEVENT
DTSTART:20180305T221500Z
DTEND:20180306T010000Z
LOCATION:Hotel DuPont
UID:1515320180305T221500ZMeeting #4 - International Estate Planning
DTSTAMP:20260422T184037Z
DESCRIPTION:\nONLINE RESERVATIONS NOW CLOSED\n \nMEETING NOTICE\n \nRSVP BY:  Noon - Friday, March 2, 2018\n \nGuests:  Payment of $60 is expected on or before event\n \n \n \nSponsors:\n Accounting: Gunnip & Company LLP Legal: Morris Nichols Arsht & Tunnell Financial:  BNY Mellon Wealth Management Other: Brown & Brown Private Client Group \nTo sponsor an event, contact Mike Albero, Sponsorship Chair.\n \n \n \nCocktails:  5:15 pm - 6:15 pm\n \n \n \nMenu:\n \nBaby Spinach Salad\n \nFilet Mignon Medallions, Truffle Scented Mushroom Ragout\n \nVegetarian:  Southwest Seasoned Grilled Tofu, Sauteed Peppers and Onions, Saffron Rice\n \nChocolate & Rum Tiramisu\n \n \n \n \n
SUMMARY:Meeting #4 - International Estate Planning - Estate Planning Council of Delaware, Inc. 
PRIORITY:3
BEGIN:VALARM
TRIGGER:PT18H
ACTION:DISPLAY
DESCRIPTION:Reminder
END:VALARM
END:VEVENT
END:VCALENDAR