BEGIN:VCALENDAR
PRODID:-//hacksw/handcal//NONSGML v1.0//EN
VERSION:2.0
METHOD:PUBLISH
BEGIN:VEVENT
DTSTART:20180509T211500Z
DTEND:20180510T000000Z
LOCATION:Hotel DuPont - Gold Ballroom
UID:1540220180509T211500ZMeeting #5 Planning for Retirement Benefits:  Recent Developments and Current Trends
DTSTAMP:20260422T184036Z
DESCRIPTION:\nONLINE RESERVATIONS NOW CLOSED\n \nMeeting Notice - Annual Meeting\n \nAny cancellations made within 48 hours of the program are subject to our cancellation policy as listed on the council website.\n \nRSVP BY FRIDAY, MAY 4, 2018\n \nSponsors:\n Dinner Sponsor:  Belfint Lyons & Shuman Dinner Sponsor:  Wilmington Trust Company Social Sponsor:  Evercore Trust Company of Delaware Social Sponsor:  Open \n \n \nCocktails:  5:15 pm - 6:15 pm\n \nMENU:\n \nSweet Onion & Parmesan Bisque\n \nYour choice:  Pan Seared Jumbo Lump Crab Cakes OR Filet Mignon\n \nVegetarian option:  Butternut Squash Risotto, Candied Pecans & Maple Reduction\n \nDessert:  Chocolate Raspberry Truffle\n \n \n
SUMMARY:Meeting #5 Planning for Retirement Benefits:  Recent Developments and Current Trends - Estate Planning Council of Delaware, Inc. 
PRIORITY:3
BEGIN:VALARM
TRIGGER:PT18H
ACTION:DISPLAY
DESCRIPTION:Reminder
END:VALARM
END:VEVENT
END:VCALENDAR