BEGIN:VCALENDAR
PRODID:-//hacksw/handcal//NONSGML v1.0//EN
VERSION:2.0
METHOD:PUBLISH
BEGIN:VEVENT
DTSTART:20180118T223000Z
DTEND:20180119T003000Z
LOCATION:Delaware Art Museum
UID:1566720180118T223000ZEPCDE Winter Social
DTSTAMP:20260422T184042Z
DESCRIPTION:\n\n
SUMMARY:EPCDE Winter Social - Estate Planning Council of Delaware, Inc. 
PRIORITY:3
BEGIN:VALARM
TRIGGER:PT18H
ACTION:DISPLAY
DESCRIPTION:Reminder
END:VALARM
END:VEVENT
END:VCALENDAR