BEGIN:VCALENDAR
PRODID:-//hacksw/handcal//NONSGML v1.0//EN
VERSION:2.0
METHOD:PUBLISH
BEGIN:VEVENT
DTSTART:20181002T210000Z
DTEND:20181002T233000Z
LOCATION:Hotel DuPont - DuBarry Room
UID:1667120181002T210000ZMeeting #1:  Ten Great Charitable Planning Ideas for 2018
DTSTAMP:20260422T182846Z
DESCRIPTION:\nMEETING NOTICE\n \nRSVP BY:  Noon - Friday, September 28, 2018\n \nGuests:  Payment of $75 due on or before event\n \n \n \nSponsors:\n Accounting:  Albero, Kupferman & Associates, LLC Legal:  McCollom D'Emilio, Smith, Uebler LLC Financial:  Wealth Wisdom Group Other:  Bessemer Trust Company of Delaware, N.A. \nTo sponsor an event, contact Jennifer Smith, Sponsorship Chair.\n \n \n \nAGENDA:\n Cocktails  5:00 pm to 5:45 pm Dinner 5:45 pm to 6:30 pm Speaker 6:30 pm to 7:30 pm \n \n \nMENU: \n \nSpinach Salad, Kalamata Olives, Feta Cheese, Grape Tomatoes wtih Balsamic Vinaigrette\n \nGrilled Chicken Breast, Farro, Wild Rice, Dried Cranberries, Almonds, Sherry Jus\n \nVegetarian Option:  Red and Gold Quinoa, Edamame, Kale, Pearl Onions\n \nDessert:  Greek Yogurt and Passionfruit Spiral with Fresh Berries\n \n \n \nSpeaker:  Kathryn Miree\n \nTopic:  Ten Great Charitable Planning Ideas for 2018\n
SUMMARY:Meeting #1:  Ten Great Charitable Planning Ideas for 2018 - Estate Planning Council of Delaware, Inc. 
PRIORITY:3
BEGIN:VALARM
TRIGGER:PT18H
ACTION:DISPLAY
DESCRIPTION:Reminder
END:VALARM
END:VEVENT
END:VCALENDAR