BEGIN:VCALENDAR
PRODID:-//hacksw/handcal//NONSGML v1.0//EN
VERSION:2.0
METHOD:PUBLISH
BEGIN:VEVENT
DTSTART:20190205T220000Z
DTEND:20190206T003000Z
LOCATION:Hotel DuPont - DuBarry Room
UID:1667320190205T220000ZMeeting #3:  Estate Planning for Divorce
DTSTAMP:20260422T182715Z
DESCRIPTION:\nONLINE RESERVATIONS NOW CLOSED\n \n \n \nMEETING NOTICE\n \nRSVP BY:  Noon - Friday, February 1, 2019\n \nGuests:  Payment of $75 due on or before event\n \n \n \nSponsors:\n Accounting:  Cover & Rossiter Legal:  Morris James, LLP Financial:  Wilmington Trust Company Other:  OPEN \nTo sponsor an event, contact Jennifer Smith, Sponsorship Chair.\n \nAGENDA:\n Cocktails  5:00 pm to 5:45 pm Dinner  5:45 pm to 6:30 pm Speaker  6:30 pm to 7:30 pm \n \n \nMENU\n \nGarden Greens, Midnight Moon Goat Cheese Crumbles, Berries, Pecans with Candied Orange Vinaigrette\n \nBeef Short Ribs with Jus, Roasted Root Vegetables, Whipped Potatoes, Wilted Greens\n \nVegetarian Option:  Farro with Dried Cranberries, Grilled Squash, Rosemary Dressing\n \nDessert:  Hazelnut Gianduja Creme Brulee\n \n \n
SUMMARY:Meeting #3:  Estate Planning for Divorce - Estate Planning Council of Delaware, Inc. 
PRIORITY:3
BEGIN:VALARM
TRIGGER:PT18H
ACTION:DISPLAY
DESCRIPTION:Reminder
END:VALARM
END:VEVENT
END:VCALENDAR