BEGIN:VCALENDAR
PRODID:-//hacksw/handcal//NONSGML v1.0//EN
VERSION:2.0
METHOD:PUBLISH
BEGIN:VEVENT
DTSTART:20190305T220000Z
DTEND:20190306T003000Z
LOCATION:Hotel DuPont - DuBarry Room
UID:1667420190305T220000ZMeeting #4:  Estate Planning with New Tax Law TCJA
DTSTAMP:20260422T183714Z
DESCRIPTION:\nONLINE RESERVATIONS NOW CLOSED\n \nMEETING NOTICE\n \nRSVP BY:  Noon - Friday, March 1, 2019\n \nGuests:  Payment of $75 due on or before event\n \n \n \nSponsors:\n Accounting:  Santora Group CPA Legal:  Morris Nichols Arsht & Tunnell Financial:  BNY Mellon Wealth Management Other:  Brown & Brown Private Client Group \n \n \nAGENDA:\n Cocktails  5:00 pm to 5:45 pm Dinner  5:45 pm to 6:30 pm Speaker  6:30 pm to 7:30 pm \n \n \nMENU\n \nSpring Mix, Romaine, Carrots, Dried Crabberries, Pecans, Tomatoes with Sherry Vinaigrette\n \nGrilled Salmon, Sauteed Kale, Pine Nuts, Oregano Cream Sauce\n \nVegetarian Option:  Gocce Spinach Pasta Stuffed wtih Four Cheeses, Roasted Peppers and Garlic, Olive Oil\n \nDessert:  Chocolate and Rum Tiramisu with Mocha Anglaise\n
SUMMARY:Meeting #4:  Estate Planning with New Tax Law TCJA - Estate Planning Council of Delaware, Inc. 
PRIORITY:3
BEGIN:VALARM
TRIGGER:PT18H
ACTION:DISPLAY
DESCRIPTION:Reminder
END:VALARM
END:VEVENT
END:VCALENDAR