BEGIN:VCALENDAR
PRODID:-//hacksw/handcal//NONSGML v1.0//EN
VERSION:2.0
METHOD:PUBLISH
BEGIN:VEVENT
DTSTART:20190515T210000Z
DTEND:20190515T233000Z
LOCATION:Hotel DuPont - Gold Ball Room
UID:1667520190515T210000ZMeeting #5 Annual Meeting:  Dealing with Individuals with Diminishing Capacity/Chronically Ill
DTSTAMP:20260422T183515Z
DESCRIPTION:\nONLINE RESERVATIONS NOW CLOSED\n \nANNUAL MEETING\n \nRSVP BY:  Noon - Friday, May 10, 2019\n \nGUESTS:  Payment of $80 due on or before event\n \nAGENDA:\n Cocktails 5:00 pm to 5:45 pm Dinner 5:45 pm to 6:30 pm Speaker 6:30 pm to 7:30 pm \n \n \nMENU:\n Cheese/crackers during cocktails \nSpinach Salad\n \nYour choice of:  Pan Seared Jumbo Lump Crab Cakes in Tomato Butter Sauce OR Filet Mignon in Truffle Scented Mushroom Ragout OR Whole Grain Penne Pasta with Garden Vegetables in Sundried Tomato Blush Sauce\n \nMiniature Vanilla Bean Creme Brulee\n \n \n \nDINNER SPONSORS:\n Belfint Lyons & Shuman Gordon, Fournaris & Mammarella, P.A. \nSOCIAL HOUR SPONSOR:\n Glenmede
SUMMARY:Meeting #5 Annual Meeting:  Dealing with Individuals with Diminishing Capacity/Chronically Ill - Estate Planning Council of Delaware, Inc. 
PRIORITY:3
BEGIN:VALARM
TRIGGER:PT18H
ACTION:DISPLAY
DESCRIPTION:Reminder
END:VALARM
END:VEVENT
END:VCALENDAR