BEGIN:VCALENDAR
PRODID:-//hacksw/handcal//NONSGML v1.0//EN
VERSION:2.0
METHOD:PUBLISH
BEGIN:VEVENT
DTSTART:20190122T230000Z
DTEND:20190123T010000Z
LOCATION:Delaware Museum of Natural History
UID:1724220190122T230000ZWinter Social
DTSTAMP:20260422T184344Z
DESCRIPTION:\nONLINE RESERVATION NOW CLOSED\n \nWINTER SOCIAL\n \nTuesday, January 22, 2019\n \n6:00 pm - 8:00 pm\n \nRSVP by Tues., Jan. 15\n \n \n \nPlease join us for a social gathering on Tuesday, January 22, 2019 starting at 6:00 pm. \nDelaware Museum of Natural History \n4840 Kennett Pike \nWilmington, DE  19807 \n \n Free parking $30 per person Cash bar \nCatering by Toscana\n \n \n \n \n
SUMMARY:Winter Social - Estate Planning Council of Delaware, Inc. 
PRIORITY:3
BEGIN:VALARM
TRIGGER:PT18H
ACTION:DISPLAY
DESCRIPTION:Reminder
END:VALARM
END:VEVENT
END:VCALENDAR