BEGIN:VCALENDAR
PRODID:-//hacksw/handcal//NONSGML v1.0//EN
VERSION:2.0
METHOD:PUBLISH
BEGIN:VEVENT
DTSTART:20211110T220000Z
DTEND:20211111T010000Z
LOCATION:DuPont Country Club
UID:1824020211110T220000ZMeeting #2 JOINT with Chester County - Trends in the Art and Auction Market
DTSTAMP:20260422T183036Z
DESCRIPTION:\nONLINE RESERVATIONS ARE NOW CLOSED\n \nMEETING NOTICE\n \nRSVP BY:  Noon - Friday, November 5, 2021\n \nGuests:  Payment of $ 95 due on or before event\n \n \n \nSPONSORS:\n \nLegal:  McCollom D'Emilio Smith Uebler LLC\n \n \n \nAGENDA:\n 5:00 pm to 5:45 pm Cocktails 5:45 pm to 6:30 pm Dinner 6:30 pm to 7:30 pm Speaker \n \n \nMENU:\n \nItalian Buffet.  Items include:\n \n Soup\n Salad Chicken Parmigiana Penne Pasta Mushroom Risotto Season Vegetables Bread Sticks Desserts \n \n
SUMMARY:Meeting #2 JOINT with Chester County - Trends in the Art and Auction Market - Estate Planning Council of Delaware, Inc. 
PRIORITY:3
BEGIN:VALARM
TRIGGER:PT18H
ACTION:DISPLAY
DESCRIPTION:Reminder
END:VALARM
END:VEVENT
END:VCALENDAR