BEGIN:VCALENDAR
PRODID:-//hacksw/handcal//NONSGML v1.0//EN
VERSION:2.0
METHOD:PUBLISH
BEGIN:VEVENT
DTSTART:20200204T220000Z
DTEND:20200205T010000Z
LOCATION:Hotel DuPont - DuBarry Room
UID:1824120200204T220000ZMeeting #3 - Pre-and-Post Transaction Planning for Business Owners
DTSTAMP:20260422T183719Z
DESCRIPTION:\nONLINE RESERVATIONS NOW CLOSED.\n \n \n \nMEETING NOTICE\n \nRSVP BY:  Noon - Friday, January 31, 2020\n \nGUESTS:  Payment of $75 due on or before event\n \n \n \nSPONSORS:\n \nAccounting:  Cover & Rossiter\n \nLegal:  Morris James LLP\n \nFinancial:  AB Bernstein\n \nOther:  OPEN\n \nTo sponsor and event, please contact Jennifer Smith, Sponsorship Chair.\n \n \n \nTOPIC:  Pre-and-Post Transaction Planning for Business Owners is a case study that helps a family plan for a sale of their business by addressing key questions before, during, and after the sale. The case study helps them determine if the deal is good, how much they need, and what opportunities there are to transfer wealth to family and charitable organizations in the most efficient way in light of today's environment. Some of the strategies examined are gifts to a Donor Advised Fund (DAF), annual gifts to Intentionally Defective Grantor Trusts (IDGTs), Grantor Retained Annuity Trusts (GRATs), and sales to IDGT. \n \n \n \nAGENDA:\n 5:00 pm to 5:45 pm Cocktails 5:45 pm to 6:30 pm Dinner 6:30 pm to 7:30 pm Speaker \n \n \nMENU\n Garden Greens, Midnight Moon Goat Cheese Crumbles, Seasonal Berries, Pecans, Candied Orange Vinaigrette Salmon Oscar Topped with Local Asparagus and Crab Imperial Hollandaise Sauce, Garlic Rubbed Fingerling Potatoes wtih Haricot Verts Chocolate Raspberry Truffle wtih Fresh Raspberries VEGETARIAN:  Coconut Curry Carrots, Potatoes, Seasonal Cauliflower, Zucchini, Garbanzo Beans, Lime, served with Jasmine Rice \n \n
SUMMARY:Meeting #3 - Pre-and-Post Transaction Planning for Business Owners - Estate Planning Council of Delaware, Inc. 
PRIORITY:3
BEGIN:VALARM
TRIGGER:PT18H
ACTION:DISPLAY
DESCRIPTION:Reminder
END:VALARM
END:VEVENT
END:VCALENDAR