BEGIN:VCALENDAR
PRODID:-//hacksw/handcal//NONSGML v1.0//EN
VERSION:2.0
METHOD:PUBLISH
BEGIN:VEVENT
DTSTART:20200303T220000Z
DTEND:20200304T010000Z
LOCATION:Hotel DuPont - DuBarry Room
UID:1824220200303T220000ZMeeting #4 - The Secure Act
DTSTAMP:20260422T183926Z
DESCRIPTION:\nRESERVATIONS NOW CLOSED - CAPACITY HAS BEEN REACHED\n \nTO BE PUT ON A WAITING LIST FOR CANCELLATIONS, PLEASE CONTACT MELISSA.\n \nMEETING NOTICE\n \nRSVP BY:  Noon - Friday, February 28, 2019\n \nGUESTS:  Payment of $75 due on or before event\n \n \n \nSPONSORS:\n \nAccounting:  Gunnip & Company LLP\n \nLegal:  Gordon Fournaris & Mammerella\n \nFinancial:  Pinion Individual Trustee Services\n \nOther:  OPEN\n \n \n \nTo sponsor an event, please contact Jennifer Smith, Sponsorship Chair.\n \n \n \nAGENDA:\n 5:00 pm to 5:45 pm Cocktails 5:45 pm to 6:30 pm Dinner 6:30 pm to 7:30 pm Speaker \n \n \nMENU:\n Chopped Salad of Romaine, Bacon Crisps, Bleu Cheese, Shaved Red Onions, Egg, Heirloom Baby Tomato Vinaigrette Beef Short Ribs with Jus, Sour Cream and Scallion Mashed Potatoes with Local Asparagus Apple Crisp Tart wtih Vanilla Bean Ice Cream VEGETARIAN:  Farro with Dried Cranberries, Grilled Squash, Rosemary Dressing \n \n
SUMMARY:Meeting #4 - The Secure Act - Estate Planning Council of Delaware, Inc. 
PRIORITY:3
BEGIN:VALARM
TRIGGER:PT18H
ACTION:DISPLAY
DESCRIPTION:Reminder
END:VALARM
END:VEVENT
END:VCALENDAR