BEGIN:VCALENDAR
PRODID:-//hacksw/handcal//NONSGML v1.0//EN
VERSION:2.0
METHOD:PUBLISH
BEGIN:VEVENT
DTSTART:20200512T210000Z
DTEND:20200513T000000Z
LOCATION:
UID:1824320200512T210000ZMeeting #5 THIS EVENT HAS BEEN CANCELLED
DTSTAMP:20260422T182732Z
DESCRIPTION:\nTHIS EVENT HAS BEEN CANCELLED DUE TO COVID-19\n
SUMMARY:Meeting #5 THIS EVENT HAS BEEN CANCELLED - Estate Planning Council of Delaware, Inc. 
PRIORITY:3
BEGIN:VALARM
TRIGGER:PT18H
ACTION:DISPLAY
DESCRIPTION:Reminder
END:VALARM
END:VEVENT
END:VCALENDAR