BEGIN:VCALENDAR
PRODID:-//hacksw/handcal//NONSGML v1.0//EN
VERSION:2.0
METHOD:PUBLISH
BEGIN:VEVENT
DTSTART:20201112T000000Z
DTEND:20201112T010000Z
LOCATION:Zoom
UID:2014120201112T000000ZTop 10 Estate Planning Lessons from Celebrities
DTSTAMP:20260422T182645Z
DESCRIPTION:\nJoin us for a Zoom webinar:  The Top 10 Estate Planning Lessons from Celebrities.\n \nZoom information will be sent prior to the webinar.\n
SUMMARY:Top 10 Estate Planning Lessons from Celebrities - Estate Planning Council of Delaware, Inc. 
PRIORITY:3
BEGIN:VALARM
TRIGGER:PT18H
ACTION:DISPLAY
DESCRIPTION:Reminder
END:VALARM
END:VEVENT
END:VCALENDAR