BEGIN:VCALENDAR
PRODID:-//hacksw/handcal//NONSGML v1.0//EN
VERSION:2.0
METHOD:PUBLISH
BEGIN:VEVENT
DTSTART:20210203T230000Z
DTEND:20210204T000000Z
LOCATION:Virtual - Zoom Meeting
UID:2014220210203T230000ZLongevity and Other Challenges During Retirement
DTSTAMP:20260422T182804Z
DESCRIPTION:\nThis meeting will be virtual through ZOOM.  A link will be sent to you when you sign up.\n \nWelcome and announcements will begin at 5:55 pm.  Presentation begins at 6 pm.\n \nSPONSORS:\n \nGordon Fournaris & Mammarella\n \nGunnip & Company\n
SUMMARY:Longevity and Other Challenges During Retirement - Estate Planning Council of Delaware, Inc. 
PRIORITY:3
BEGIN:VALARM
TRIGGER:PT18H
ACTION:DISPLAY
DESCRIPTION:Reminder
END:VALARM
END:VEVENT
END:VCALENDAR