BEGIN:VCALENDAR
PRODID:-//hacksw/handcal//NONSGML v1.0//EN
VERSION:2.0
METHOD:PUBLISH
BEGIN:VEVENT
DTSTART:20210512T213000Z
DTEND:20210512T233000Z
LOCATION:DuPont Country Club
UID:2014420210512T213000ZTop Tax and Estate Planning Techniques Today (COVID-19, COVFEFE, and Congress)
DTSTAMP:20260422T182554Z
DESCRIPTION:\nIN PERSON REGISTRATION IS CLOSED - YOU MAY SIGN UP FOR ZOOM PRESENTATION.\n \nThis meeting will be a hybrid meeting - in-person and virtual.  We are limited to 50 guests maximum.  First come/first serve on reservations.\n \nAGENDA:\n \nDinner:  5:30 pm\n \nPresentation begins at 6:30 pm\n \nSPONSORS:\n \nWilmington Trust Company\n \nMorris James LLP\n \n \n \nIf attending in-person:  $85 (due BEFORE the event, please pay by credit card - there will be no billing for this event).\n \nMENU (choose one option for in-person attendance):\n \n* Maryland Jumbo Lump Crab Cake with Lemon Chive Cream Sauce\n \n* Boneless Short Ribs of Beef, Natural Jus\n \n* Vegetarian - Mushroom Ravioli, sauteed spinach, rose sauce\n \nAll dinners will start with a Caesar Salad\n \nDessert:  Dulce de Leche Mousse Cake\n \n \n
SUMMARY:Top Tax and Estate Planning Techniques Today (COVID-19, COVFEFE, and Congress) - Estate Planning Council of Delaware, Inc. 
PRIORITY:3
BEGIN:VALARM
TRIGGER:PT18H
ACTION:DISPLAY
DESCRIPTION:Reminder
END:VALARM
END:VEVENT
END:VCALENDAR