BEGIN:VCALENDAR
PRODID:-//hacksw/handcal//NONSGML v1.0//EN
VERSION:2.0
METHOD:PUBLISH
BEGIN:VEVENT
DTSTART:20220202T220000Z
DTEND:20220203T010000Z
LOCATION:DuPont Country Club
UID:2183120220202T220000ZIRS Scouting Report - IRS Focus on Audits in the Estate Planning World
DTSTAMP:20260422T183206Z
DESCRIPTION:\nMEETING NOTICE\n \nRSVP BY:  Noon, Friday, January 28, 2022\n \nGUESTS:  Payment of $95 due on or before event\n \n \n \nSPONSORS:  Morris James, LLP\n \nTo sponsor an event, please contact Joe Bosik, Sponsorship Chair.\n \n \n \nAGENDA:\n \n5:00 pm to 5:45 pm  Cocktails\n \n5:45 pm to 6:30 pm  Dinner\n \n6:30 pm to 7:30 pm  Speaker\n \n \n \nMENU (This will be a plated dinner):\n \nCaesar Salad\n \nEntree:  Grilled Chicken Breast\n \nVegetarian Entree:  Mushroom Ravioli\n \nDulce de Leche Mousse Cake for dessert\n \n \n
SUMMARY:IRS Scouting Report - IRS Focus on Audits in the Estate Planning World - Estate Planning Council of Delaware, Inc. 
PRIORITY:3
BEGIN:VALARM
TRIGGER:PT18H
ACTION:DISPLAY
DESCRIPTION:Reminder
END:VALARM
END:VEVENT
END:VCALENDAR