BEGIN:VCALENDAR
PRODID:-//hacksw/handcal//NONSGML v1.0//EN
VERSION:2.0
METHOD:PUBLISH
BEGIN:VEVENT
DTSTART:20220302T220000Z
DTEND:20220303T010000Z
LOCATION:DuPont Country Club
UID:2183220220302T220000ZState Income Taxation of Trusts
DTSTAMP:20260422T182944Z
DESCRIPTION:\nONLINE RESERVATIONS ARE NOW CLOSED\n \nMEETING NOTICE\n \nRSVP BY:  Noon, Friday, February 25, 2022\n \nGUESTS:  Payment of $95 due on or before event\n \nSPONSORS:\n \nAccounting:  Belfint Lyons & Shuman\n \nFinancial:  Bessemer Trust Company\n \n \n \nAGENDA:\n 5:00 pm to 5:45 pm  Cocktails 5:45 pm to 6:30 pm  Dinner 6:30 pm to 7:30 pm  Speaker \n \n \nMENU:\n Mushroom Soup Grilled Salmon Vegetarian option:  Grilled Vegetables with Quinoa Fruit Tart \n \n \n \n
SUMMARY:State Income Taxation of Trusts - Estate Planning Council of Delaware, Inc. 
PRIORITY:3
BEGIN:VALARM
TRIGGER:PT18H
ACTION:DISPLAY
DESCRIPTION:Reminder
END:VALARM
END:VEVENT
END:VCALENDAR