BEGIN:VCALENDAR
PRODID:-//hacksw/handcal//NONSGML v1.0//EN
VERSION:2.0
METHOD:PUBLISH
BEGIN:VEVENT
DTSTART:20220120T220000Z
DTEND:20220121T003000Z
LOCATION:Tonic Seafood & Steak - Wilmington
UID:2204220220120T220000ZWinter Social - Tonic Seafood & Steak
DTSTAMP:20260422T183824Z
DESCRIPTION:\nONLINE RESERVATIONS ARE NOW CLOSED.\n \nPlease RSVP by Friday, January 7, 2022.\n \nPayment must be received prior to event.\n \n \n \nJoin us for our Winter Social!  This is a CASH BAR event.\n \nTHANK YOU to Cover & Rossiter for graciously sponsoring this event.\n \nMenu:\n \nChilled Shrimp Cocktail\n \nHummus bi Tahini\n \nCheeseboard\n \nMini Crab Cakes\n \nPanko Chicken Sliders\n \nCookies & Brownies\n \n \n
SUMMARY:Winter Social - Tonic Seafood & Steak - Estate Planning Council of Delaware, Inc. 
PRIORITY:3
BEGIN:VALARM
TRIGGER:PT18H
ACTION:DISPLAY
DESCRIPTION:Reminder
END:VALARM
END:VEVENT
END:VCALENDAR