BEGIN:VCALENDAR
PRODID:-//hacksw/handcal//NONSGML v1.0//EN
VERSION:2.0
METHOD:PUBLISH
BEGIN:VEVENT
DTSTART:20220511T210000Z
DTEND:20220511T233000Z
LOCATION:DuPont Country Club
UID:2237820220511T210000ZMay Annual Meeting - 75th Anniversary
DTSTAMP:20260422T182803Z
DESCRIPTION:\nMEETING NOTICE\n \nRSVP BY:  Noon, Friday, May 6, 2022\n \nGUESTS:  Payment of $95 due on or before event\n \nSPONSORS:\n \nWilmington Trust\n \nPeak Trust Company\n \n \n \nAGENDA:\n 5:00 pm to 5:45 pm  Cocktails 5:45 pm to 6:30 pm  Dinner 6:30 pm to 7:30 pm  Speaker \n \n \nMENU:\n \nSpinach Salad\n \nSurf and Turf Entree OR Vegetarian Lasagna Entree\n \nCreme Brulee for dessert\n
SUMMARY:May Annual Meeting - 75th Anniversary - Estate Planning Council of Delaware, Inc. 
PRIORITY:3
BEGIN:VALARM
TRIGGER:PT18H
ACTION:DISPLAY
DESCRIPTION:Reminder
END:VALARM
END:VEVENT
END:VCALENDAR