BEGIN:VCALENDAR
PRODID:-//hacksw/handcal//NONSGML v1.0//EN
VERSION:2.0
METHOD:PUBLISH
BEGIN:VEVENT
DTSTART:20220421T210000Z
DTEND:20220421T233000Z
LOCATION:Columbus Inn, 2216 Pennsylvania Ave, Wilmington, DE 19806
UID:2249020220421T210000Z75th Anniversary Happy Hour Celebration
DTSTAMP:20260422T185106Z
DESCRIPTION:
SUMMARY:75th Anniversary Happy Hour Celebration - Estate Planning Council of Delaware, Inc. 
PRIORITY:3
BEGIN:VALARM
TRIGGER:PT18H
ACTION:DISPLAY
DESCRIPTION:Reminder
END:VALARM
END:VEVENT
END:VCALENDAR