BEGIN:VCALENDAR
PRODID:-//hacksw/handcal//NONSGML v1.0//EN
VERSION:2.0
METHOD:PUBLISH
BEGIN:VEVENT
DTSTART:20221012T210000Z
DTEND:20221012T233000Z
LOCATION:DuPont Country Club
UID:2273820221012T210000ZMeeting #1 - Estate Planning Paralysis: Getting Your Clients to Act
DTSTAMP:20260422T183726Z
DESCRIPTION:\nMEETING NOTICE\n \nRSVP by: Noon – Friday, October 7, 2022\n \n \n \nSponsors:\n \nGordon, Fournaris & Mammarella, P.A.\n \nTo sponsor an event, please contact Mark Singer, Sponsorship Chair.\n \n \n \nAGENDA:\n Cocktails:       5:00 pm Dinner:           5:45 pm Speaker:        6:30 pm (Justin Miller, Evercore Wealth Management) Topic:             Estate Planning Paralysis: Getting Your Clients to Act \n \n \n \n \nMENU:\n Spinach salad, roasted tomatoes, feta cheese, balsamic vinaigrette Pan seared chicken breast, mushroom sauté, roasted garlic demi-glace Chocolate truffle with white chocolate mousse VEGETARIAN: Vegetarian lasagna roulades with classic marinara sauce
SUMMARY:Meeting #1 - Estate Planning Paralysis: Getting Your Clients to Act - Estate Planning Council of Delaware, Inc. 
PRIORITY:3
BEGIN:VALARM
TRIGGER:PT18H
ACTION:DISPLAY
DESCRIPTION:Reminder
END:VALARM
END:VEVENT
END:VCALENDAR