BEGIN:VCALENDAR
PRODID:-//hacksw/handcal//NONSGML v1.0//EN
VERSION:2.0
METHOD:PUBLISH
BEGIN:VEVENT
DTSTART:20230208T220000Z
DTEND:20230209T003000Z
LOCATION:DuPont Country Club
UID:2274020230208T220000ZMeeting #3 - Ensuring Your Client's Good Fortune Does Not Become a Misfortune for their Children
DTSTAMP:20260422T183557Z
DESCRIPTION:\nMEETING NOTICE\n \nRSVP by: Noon – Friday, February 3, 2023\n \n \n \nSponsors:\n \nNewton One Advisors, LLC\n \nTo sponsor an event, please contact Mark Singer, Sponsorship Chair.\n \n \n \nAGENDA:\n Cocktails:       5:00 pm Dinner:           5:45 pm Speaker:        6:30 pm (Jill Shipley - Tiedemann Advisors) Topic:             Ensuring Your Client's Good Fortune Does Not Become a Misfortune for their Children \n \n \n \n \nMENU:\n \n \n Petite iceberg salad with crumbled bacon, tomato, red onion and bleu cheese dressing Filet of salmon with black sesame citrus teriyaki glaze, seasonal vegetables, and starch Dulce de leche chocolate bombe VEGETARIAN: Penne pasta primavera, seasonal vegetables, asiago cream sauce
SUMMARY:Meeting #3 - Ensuring Your Client's Good Fortune Does Not Become a Misfortune for their Children - Estate Planning Council of Delaware, Inc. 
PRIORITY:3
BEGIN:VALARM
TRIGGER:PT18H
ACTION:DISPLAY
DESCRIPTION:Reminder
END:VALARM
END:VEVENT
END:VCALENDAR