BEGIN:VCALENDAR
PRODID:-//hacksw/handcal//NONSGML v1.0//EN
VERSION:2.0
METHOD:PUBLISH
BEGIN:VEVENT
DTSTART:20221102T210000Z
DTEND:20221102T233000Z
LOCATION:DuPont Country Club
UID:2351820221102T210000ZMeeting #2 - BDITs and BDOTs
DTSTAMP:20260422T183341Z
DESCRIPTION:\nMEETING NOTICE\n \nRSVP by: Noon – Friday, October 28, 2022\n \n \n \nSponsors:\n \nMcCollom D'Emilio Smith Uebler LLC\n \nTo sponsor an event, please contact Mark Singer, Sponsorship Chair.\n \n \n \nAGENDA:\n Cocktails:      5:00 pm Dinner:         5:45 pm Speaker:       6:30 pm (Mitch Drossman - Bank of America) Topic:           BDITs and BDOTs \n \n \n \n \nMENU:\n \n \n Caesar salad, asiago cheese, focaccia croutons, house-made dressing Pork loin chop, confit of shallots, whole grain mustard sauce, chef’s selection vegetable and starch Vanilla cheesecake, seasonal fruit, apricot glaze VEGETARIAN: Penne pasta primavera, seasonal vegetables, asiago cream sauce
SUMMARY:Meeting #2 - BDITs and BDOTs - Estate Planning Council of Delaware, Inc. 
PRIORITY:3
BEGIN:VALARM
TRIGGER:PT18H
ACTION:DISPLAY
DESCRIPTION:Reminder
END:VALARM
END:VEVENT
END:VCALENDAR