BEGIN:VCALENDAR
PRODID:-//hacksw/handcal//NONSGML v1.0//EN
VERSION:2.0
METHOD:PUBLISH
BEGIN:VEVENT
DTSTART:20230510T210000Z
DTEND:20230510T233000Z
LOCATION:DuPont Country Club
UID:2413820230510T210000ZAnnual Meeting - IRS Hit List in the T&E World
DTSTAMP:20260422T183714Z
DESCRIPTION:
SUMMARY:Annual Meeting - IRS Hit List in the T&E World - Estate Planning Council of Delaware, Inc. 
PRIORITY:3
BEGIN:VALARM
TRIGGER:PT18H
ACTION:DISPLAY
DESCRIPTION:Reminder
END:VALARM
END:VEVENT
END:VCALENDAR