BEGIN:VCALENDAR
PRODID:-//hacksw/handcal//NONSGML v1.0//EN
VERSION:2.0
METHOD:PUBLISH
BEGIN:VEVENT
DTSTART:20230919T213000Z
DTEND:20230919T233000Z
LOCATION:The Quoin, 519 N Market St, Wilmington, DE 19801
UID:2481820230919T213000ZFall Social
DTSTAMP:20260422T183936Z
DESCRIPTION:
SUMMARY:Fall Social - Estate Planning Council of Delaware, Inc. 
PRIORITY:3
BEGIN:VALARM
TRIGGER:PT18H
ACTION:DISPLAY
DESCRIPTION:Reminder
END:VALARM
END:VEVENT
END:VCALENDAR