BEGIN:VCALENDAR
PRODID:-//hacksw/handcal//NONSGML v1.0//EN
VERSION:2.0
METHOD:PUBLISH
BEGIN:VEVENT
DTSTART:20231004T210000Z
DTEND:20231004T233000Z
LOCATION:DuPont Country Club
UID:2484320231004T210000ZOctober Meeting - The ABC's of CRTs 
DTSTAMP:20260422T183824Z
DESCRIPTION:\nMEETING NOTICE\n \nRSVP by: Noon – Friday, September 29, 2023\n \n \n \nSponsor:\n \nMcCollom D'Emilio Smith Uebler LLC\n \nTo sponsor an event, please contact Mark Singer or Mike Neri, Sponsorship Chairs.\n \n \n \nAGENDA:\n Cocktails:       5:00 pm Dinner:           5:45 pm Speaker:        6:30 pm (Paul M. Caspersen, CFP®, MS, AEP®) Topic:             The ABC's of CRTs \n \n \n \n \nMENU:\n \n \n Cream of tomato and roasted red pepper soup Pan seared chicken breast with roasted mushrooms and lemon caper pan sauce Candied orange crème brulée with berries and whipped cream VEGETARIAN: Vegetarian lasagna roulades with classic marinara sauce
SUMMARY:October Meeting - The ABC's of CRTs  - Estate Planning Council of Delaware, Inc. 
PRIORITY:3
BEGIN:VALARM
TRIGGER:PT18H
ACTION:DISPLAY
DESCRIPTION:Reminder
END:VALARM
END:VEVENT
END:VCALENDAR