BEGIN:VCALENDAR
PRODID:-//hacksw/handcal//NONSGML v1.0//EN
VERSION:2.0
METHOD:PUBLISH
BEGIN:VEVENT
DTSTART:20231101T210000Z
DTEND:20231101T233000Z
LOCATION:DuPont Country Club
UID:2484420231101T210000ZNovember Meeting - At the Intersection of Estate and Elder Care Planning: Which Way Do I Turn?
DTSTAMP:20260422T183043Z
DESCRIPTION:\nMEETING NOTICE\n \nRSVP by: Noon – Friday, October 27, 2023\n \n \n \nSponsors:\n \nPinion Delaware Individual Trustee\n \nBrown & Brown\n \nTo sponsor an event, please contact Mark Singer or Mike Neri, Sponsorship Chairs.\n \n \n \nAGENDA:\n Cocktails:       5:00 pm Dinner:           5:45 pm Speaker:        6:30 pm (Elizabeth Forspan, Esq.) Topic:             At the Intersection of Estate and Elder Care Planning: Which Way Do I Turn? \n \n \n \n \nMENU:\n \n \n Caesar salad Filet of salmon with black sesame citrus teriyaki glaze Dulce de leche chocolate bombe VEGETARIAN: Penne pasta primavera with seasonal vegetables and asiago cream sauce
SUMMARY:November Meeting - At the Intersection of Estate and Elder Care Planning: Which Way Do I Turn? - Estate Planning Council of Delaware, Inc. 
PRIORITY:3
BEGIN:VALARM
TRIGGER:PT18H
ACTION:DISPLAY
DESCRIPTION:Reminder
END:VALARM
END:VEVENT
END:VCALENDAR