BEGIN:VCALENDAR
PRODID:-//hacksw/handcal//NONSGML v1.0//EN
VERSION:2.0
METHOD:PUBLISH
BEGIN:VEVENT
DTSTART:20240207T220000Z
DTEND:20240208T003000Z
LOCATION:CSC Station
UID:2484520240207T220000ZFebruary Meeting - Fine Art Valuations
DTSTAMP:20260422T183030Z
DESCRIPTION:\nMEETING NOTICE\n \nRSVP by: Noon – Monday, February 5, 2024\n \n \n \nSponsors:\n \nNewton One Advisors\n \nGordon Fournaris & Mammarella\n \nTo sponsor an event, please contact Mark Singer or Mike Neri, Sponsorship Chairs.\n \n \n \nAGENDA:\n Arrival:          5:00 pm Speaker:       Colleen Boyle, CAP® Topic:           Fine Art Valuations \n \n \n \n \nThe DuPont Country Club is undergoing renovations, so we are veering from our traditional dinner meeting and location. Please join us for an evening of networking and a presentation on art valuations at CSC Station. We will have an open bar with beer and wine and heavy appetizers in lieu of a served dinner.\n
SUMMARY:February Meeting - Fine Art Valuations - Estate Planning Council of Delaware, Inc. 
PRIORITY:3
BEGIN:VALARM
TRIGGER:PT18H
ACTION:DISPLAY
DESCRIPTION:Reminder
END:VALARM
END:VEVENT
END:VCALENDAR