BEGIN:VCALENDAR
PRODID:-//hacksw/handcal//NONSGML v1.0//EN
VERSION:2.0
METHOD:PUBLISH
BEGIN:VEVENT
DTSTART:20240320T210000Z
DTEND:20240320T233000Z
LOCATION:DuPont Country Club
UID:2484620240320T210000ZMarch Meeting - Practical Partnership Solutions to Common Client Situations
DTSTAMP:20260422T183243Z
DESCRIPTION:\nMEETING NOTICE\n \nRSVP by: Noon – Friday, March 15, 2024\n \n \n \nSponsors:\n \nMorris, Nichols, Arsht & Tunnell LLP\n \nTo sponsor an event, please contact Mark Singer or Mike Neri, Sponsorship Chairs.\n \n \n \nAGENDA:\n Cocktails:      5:00 pm Dinner:         5:45 pm Speaker:       6:30 pm (Paul Lee, Esq.) Topic:           Practical Partnership Solutions to Common Client Situations \n \n \n \n \nMENU:\n \n \n Baby spinach salad with herb roasted tomatoes, feta cheese, and balsamic vinaigrette Chicken Boursin Seasonal fruit tart with vanilla cheesecake and seasonal fruit VEGETARIAN: Mushroom ravioli with sauteed spinach and rose sauce
SUMMARY:March Meeting - Practical Partnership Solutions to Common Client Situations - Estate Planning Council of Delaware, Inc. 
PRIORITY:3
BEGIN:VALARM
TRIGGER:PT18H
ACTION:DISPLAY
DESCRIPTION:Reminder
END:VALARM
END:VEVENT
END:VCALENDAR