BEGIN:VCALENDAR
PRODID:-//hacksw/handcal//NONSGML v1.0//EN
VERSION:2.0
METHOD:PUBLISH
BEGIN:VEVENT
DTSTART:20240417T210000Z
DTEND:20240417T230000Z
LOCATION:Delaware Museum of Nature & Science
UID:2581720240417T210000ZSpring Social
DTSTAMP:20260422T183103Z
DESCRIPTION:\nJoin us for our spring social! This event is open to members only. We will have an open bar and serve appetizers. You can enjoy networking and peruse the museum. The board looks forward to seeing you there!\n
SUMMARY:Spring Social - Estate Planning Council of Delaware, Inc. 
PRIORITY:3
BEGIN:VALARM
TRIGGER:PT18H
ACTION:DISPLAY
DESCRIPTION:Reminder
END:VALARM
END:VEVENT
END:VCALENDAR